BEGIN:VCALENDAR
VERSION:2.0
PRODID:-//Sportello Energia del Comune di Milano - ECPv6.15.20//NONSGML v1.0//EN
CALSCALE:GREGORIAN
METHOD:PUBLISH
X-ORIGINAL-URL:https://sportelloenergia.amat-mi.it
X-WR-CALDESC:Eventi per Sportello Energia del Comune di Milano
REFRESH-INTERVAL;VALUE=DURATION:PT1H
X-Robots-Tag:noindex
X-PUBLISHED-TTL:PT1H
BEGIN:VTIMEZONE
TZID:Europe/Rome
BEGIN:DAYLIGHT
TZOFFSETFROM:+0100
TZOFFSETTO:+0200
TZNAME:CEST
DTSTART:20250330T010000
END:DAYLIGHT
BEGIN:STANDARD
TZOFFSETFROM:+0200
TZOFFSETTO:+0100
TZNAME:CET
DTSTART:20251026T010000
END:STANDARD
BEGIN:DAYLIGHT
TZOFFSETFROM:+0100
TZOFFSETTO:+0200
TZNAME:CEST
DTSTART:20260329T010000
END:DAYLIGHT
BEGIN:STANDARD
TZOFFSETFROM:+0200
TZOFFSETTO:+0100
TZNAME:CET
DTSTART:20261025T010000
END:STANDARD
BEGIN:DAYLIGHT
TZOFFSETFROM:+0100
TZOFFSETTO:+0200
TZNAME:CEST
DTSTART:20270328T010000
END:DAYLIGHT
BEGIN:STANDARD
TZOFFSETFROM:+0200
TZOFFSETTO:+0100
TZNAME:CET
DTSTART:20271031T010000
END:STANDARD
END:VTIMEZONE
BEGIN:VEVENT
DTSTART;TZID=Europe/Rome:20260428T100000
DTEND;TZID=Europe/Rome:20260428T110000
DTSTAMP:20260420T030637
CREATED:20260416T142248Z
LAST-MODIFIED:20260416T142248Z
UID:22267-1777370400-1777374000@sportelloenergia.amat-mi.it
SUMMARY:Energie in Comune. Merenda gratis e lettura bollette con Sportello Energia
DESCRIPTION:Energie in Comune ti invita a merenda martedì 28 Aprile alle 10\, in Via Mar Nero 6\, presso il locale autogestione – Scala A – Primo piano. \nTu porta la bolletta\, Sportello Energia del Comune di Milano ti aiuterà a capire come ridurre i costi e risparmiare sulle bollette di luce e gas. \nEnergie In Comune è un progetto di contrasto alla povertà energetica volto ad innovare la gestione dell’edilizia residenziale pubblica a Milano. Un’iniziativa promossa dal Comune di Milano Assessorato all’Edilizia Residenziale Pubblica – Direzione Casa – Area Politiche Innovative di Sostegno Abitativo – Unità Programmi Integrati di Quartiere. Progetto selezionato e finanziato nell’ambito del Programma Regionale FSE+ 2021–2027 – Regione Lombardia (D.D.U.O. n. 2134 del 18/02/2025). \nLe colazioni proposte si inseriscono all’interno delle attività previste dal progetto per l’erogazione di un insieme di servizi di gestione sociale con finalità di sostegno agli inquilini a rischio di povertà energetica. \nEVENTO GRATUITO\nPorta la bolletta\, la colazione la offriamo noi! \nPer saperne di più\, scopri come risparmiare in bolletta.
URL:https://sportelloenergia.amat-mi.it/evento/energie-in-comune-merenda-gratis-e-lettura-bollette-con-sportello-energia-4/
LOCATION:Via Mar Nero 6\, Italy
CATEGORIES:evento pubblico senza registrazione
ATTACH;FMTTYPE=image/jpeg:https://sportelloenergia.amat-mi.it/wp-content/uploads/2026/04/Colazione-illuminante_2026_28aprile-.jpg
END:VEVENT
BEGIN:VEVENT
DTSTART;TZID=Europe/Rome:20260428T180000
DTEND;TZID=Europe/Rome:20260428T190000
DTSTAMP:20260420T030637
CREATED:20260419T123634Z
LAST-MODIFIED:20260419T123634Z
UID:22278-1777399200-1777402800@sportelloenergia.amat-mi.it
SUMMARY:CERcaMI nel Municipio 2. Scopri i progetti
DESCRIPTION:Scopri i progetti finanziati nel Municipio 2 da CERcaMI\, la prima Comunità Energetica Rinnovabile e Sostenibile di Milano. \nL’appuntamento è il 28 Aprile alle 18:15 presso il Teatro Trotter – Mariangela Melato in Via Giacosa 46\, Milano. Interviene Gianluca Ruggieri · Presidente di ènostra. \nPorta con te una bolletta\, potrai aderire subito alla Comunità. \nCERcaMI nasce per condividere con la comunità i benefici economici della produzione e dell’autoconsumo diffuso. Gli introiti vengono investiti in progetti selezionati per produrre positivi impatti sociali nei quartieri. CERcaMI è promossa dal Comune di Milano\, il Politecnico di Milano e altri partner ed è realizzata tramite ènostra. \nPer saperne di più su CERcaMI\, consulta Sportello Energia.
URL:https://sportelloenergia.amat-mi.it/evento/cercami-nel-municipio-2-scopri-i-progetti/
LOCATION:Teatro Trotter – Mariangela Melato\, Via Giacosa 46\, Milano\, Italy
CATEGORIES:evento pubblico senza registrazione
ATTACH;FMTTYPE=image/jpeg:https://sportelloenergia.amat-mi.it/wp-content/uploads/2026/04/cercami-teatro-trotter-Sportello-Energia-scaled.jpg
END:VEVENT
END:VCALENDAR